BEGIN:VCALENDAR
VERSION:2.0
PRODID:-//Tukios.com/
BEGIN:VEVENT
UID:60fe09ec-a0a2-4137-bfb3-c6daec829a6b@www.dmorristrinitycs.com
DTSTAMP:20260425T112401Z
DTSTART:20260502T130000Z
DTEND:20260502T150000Z
SUMMARY:Viewing
DESCRIPTION:
URL:https://www.dmorristrinitycs.com/obituaries/marion-carter
LOCATION:Eternal Life Ministries 807 Market Street  Denton MD 21629
GEO:38.8839027;-75.8234872
END:VEVENT
END:VCALENDAR