BEGIN:VCALENDAR
VERSION:2.0
PRODID:-//Tukios.com/
BEGIN:VEVENT
UID:169d7ed8-19a9-4306-8d84-4667c5525dbb@www.dmorristrinitycs.com
DTSTAMP:20260425T111922Z
DTSTART:20260502T150000Z
DTEND:20260502T173000Z
SUMMARY:Celebration of Life
DESCRIPTION:
URL:https://www.dmorristrinitycs.com/obituaries/marion-carter
LOCATION:Eternal Life Ministries 807 Market Street  Dention MD 21629
GEO:38.8839027;-75.8234872
END:VEVENT
END:VCALENDAR