BEGIN:VCALENDAR
VERSION:2.0
PRODID:-//Tukios.com/
BEGIN:VEVENT
UID:c08987f8-6b1d-4ea8-8b9e-01e3f553dfe2@www.dmorristrinitycs.com
DTSTAMP:20260425T112339Z
DTSTART:20260504T150000Z
DTEND:20260504T153000Z
SUMMARY:Interment
DESCRIPTION:
URL:https://www.dmorristrinitycs.com/obituaries/marion-carter
LOCATION:Loudon Park Funeral Home & Cemetery 3620 Wilkens Ave  Baltimore 
	MD 21229
GEO:39.2708634;-76.6823277
END:VEVENT
END:VCALENDAR